BEGIN:VCALENDAR
VERSION:2.0
PRODID:icalendar-ruby
CALSCALE:GREGORIAN
METHOD:PUBLISH
BEGIN:VEVENT
DTSTAMP:20260424T143543Z
UID:5-405286@joinusatfaithbaptist.org
DTSTART:20251012T143000Z
DTEND:20251012T153000Z
CLASS:PUBLIC
CREATED:20260424T075220
DESCRIPTION:Sunday Worship
LAST-MODIFIED:20260424T075220
LOCATION:
SUMMARY:Sunday Worship
URL;VALUE=URI:https://www.joinusatfaithbaptist.org/events/sunday-worship/20
 25-10-12
END:VEVENT
END:VCALENDAR
