BEGIN:VCALENDAR
VERSION:2.0
PRODID:icalendar-ruby
CALSCALE:GREGORIAN
METHOD:PUBLISH
BEGIN:VEVENT
DTSTAMP:20260424T125230Z
UID:5-405285@joinusatfaithbaptist.org
DTSTART:20251005T143000Z
DTEND:20251005T153000Z
CLASS:PUBLIC
CREATED:20260424T075220
DESCRIPTION:Sunday Worship
LAST-MODIFIED:20260424T075220
LOCATION:
SUMMARY:Sunday Worship
URL;VALUE=URI:https://www.joinusatfaithbaptist.org/events/sunday-worship/20
 25-10-05
END:VEVENT
END:VCALENDAR
