BEGIN:VCALENDAR
VERSION:2.0
PRODID:icalendar-ruby
CALSCALE:GREGORIAN
METHOD:PUBLISH
BEGIN:VEVENT
DTSTAMP:20260424T111856Z
UID:5-405023@joinusatfaithbaptist.org
DTSTART:20250928T143000Z
DTEND:20250928T153000Z
CLASS:PUBLIC
CREATED:20260423T222354
DESCRIPTION:Sunday Worship
LAST-MODIFIED:20260423T222354
LOCATION:
SUMMARY:Sunday Worship
URL;VALUE=URI:https://www.joinusatfaithbaptist.org/events/sunday-worship/20
 25-09-28
END:VEVENT
END:VCALENDAR
