BEGIN:VCALENDAR
VERSION:2.0
PRODID:icalendar-ruby
CALSCALE:GREGORIAN
METHOD:PUBLISH
BEGIN:VEVENT
DTSTAMP:20260423T235121Z
UID:5-404755@joinusatfaithbaptist.org
DTSTART:20250810T143000Z
DTEND:20250810T153000Z
CLASS:PUBLIC
CREATED:20260423T192956
DESCRIPTION:Sunday Worship
LAST-MODIFIED:20260423T192956
LOCATION:
SUMMARY:Sunday Worship
URL;VALUE=URI:https://www.joinusatfaithbaptist.org/events/sunday-worship/20
 25-08-10
END:VEVENT
END:VCALENDAR
