BEGIN:VCALENDAR
VERSION:2.0
PRODID:icalendar-ruby
CALSCALE:GREGORIAN
METHOD:PUBLISH
BEGIN:VEVENT
DTSTAMP:20260423T221450Z
UID:5-404493@joinusatfaithbaptist.org
DTSTART:20250803T143000Z
DTEND:20250803T153000Z
CLASS:PUBLIC
CREATED:20260423T163613
DESCRIPTION:Sunday Worship
LAST-MODIFIED:20260423T163613
LOCATION:
SUMMARY:Sunday Worship
URL;VALUE=URI:https://www.joinusatfaithbaptist.org/events/sunday-worship/20
 25-08-03
END:VEVENT
END:VCALENDAR
