BEGIN:VCALENDAR
VERSION:2.0
PRODID:icalendar-ruby
CALSCALE:GREGORIAN
METHOD:PUBLISH
BEGIN:VEVENT
DTSTAMP:20260423T183746Z
UID:5-404230@joinusatfaithbaptist.org
DTSTART:20250720T143000Z
DTEND:20250720T153000Z
CLASS:PUBLIC
CREATED:20260423T134022
DESCRIPTION:Sunday Worship
LAST-MODIFIED:20260423T134022
LOCATION:
SUMMARY:Sunday Worship
URL;VALUE=URI:https://www.joinusatfaithbaptist.org/events/sunday-worship/20
 25-07-20
END:VEVENT
END:VCALENDAR
