BEGIN:VCALENDAR
VERSION:2.0
PRODID:icalendar-ruby
CALSCALE:GREGORIAN
METHOD:PUBLISH
BEGIN:VEVENT
DTSTAMP:20260423T164152Z
UID:5-403968@joinusatfaithbaptist.org
DTSTART:20250713T143000Z
DTEND:20250713T153000Z
CLASS:PUBLIC
CREATED:20260423T104453
DESCRIPTION:Sunday Worship
LAST-MODIFIED:20260423T104453
LOCATION:
SUMMARY:Sunday Worship
URL;VALUE=URI:https://www.joinusatfaithbaptist.org/events/sunday-worship/20
 25-07-13
END:VEVENT
END:VCALENDAR
