BEGIN:VCALENDAR
VERSION:2.0
PRODID:icalendar-ruby
CALSCALE:GREGORIAN
METHOD:PUBLISH
BEGIN:VEVENT
DTSTAMP:20260423T145137Z
UID:5-403967@joinusatfaithbaptist.org
DTSTART:20250706T143000Z
DTEND:20250706T153000Z
CLASS:PUBLIC
CREATED:20260423T104453
DESCRIPTION:Sunday Worship
LAST-MODIFIED:20260423T104453
LOCATION:
SUMMARY:Sunday Worship
URL;VALUE=URI:https://www.joinusatfaithbaptist.org/events/sunday-worship/20
 25-07-06
END:VEVENT
END:VCALENDAR
