BEGIN:VCALENDAR
VERSION:2.0
PRODID:icalendar-ruby
CALSCALE:GREGORIAN
METHOD:PUBLISH
BEGIN:VEVENT
DTSTAMP:20260423T130258Z
UID:5-403705@joinusatfaithbaptist.org
DTSTART:20250629T143000Z
DTEND:20250629T153000Z
CLASS:PUBLIC
CREATED:20260423T075137
DESCRIPTION:Sunday Worship
LAST-MODIFIED:20260423T075137
LOCATION:
SUMMARY:Sunday Worship
URL;VALUE=URI:https://www.joinusatfaithbaptist.org/events/sunday-worship/20
 25-06-29
END:VEVENT
END:VCALENDAR
