BEGIN:VCALENDAR
VERSION:2.0
PRODID:icalendar-ruby
CALSCALE:GREGORIAN
METHOD:PUBLISH
BEGIN:VEVENT
DTSTAMP:20260423T093543Z
UID:5-403442@joinusatfaithbaptist.org
DTSTART:20250615T143000Z
DTEND:20250615T153000Z
CLASS:PUBLIC
CREATED:20260422T222146
DESCRIPTION:Sunday Worship
LAST-MODIFIED:20260422T222146
LOCATION:
SUMMARY:Sunday Worship
URL;VALUE=URI:https://www.joinusatfaithbaptist.org/events/sunday-worship/20
 25-06-15
END:VEVENT
END:VCALENDAR
