BEGIN:VCALENDAR
VERSION:2.0
PRODID:icalendar-ruby
CALSCALE:GREGORIAN
METHOD:PUBLISH
BEGIN:VEVENT
DTSTAMP:20260423T050752Z
UID:5-403439@joinusatfaithbaptist.org
DTSTART:20250525T143000Z
DTEND:20250525T153000Z
CLASS:PUBLIC
CREATED:20260422T222146
DESCRIPTION:Sunday Worship
LAST-MODIFIED:20260422T222146
LOCATION:
SUMMARY:Sunday Worship
URL;VALUE=URI:https://www.joinusatfaithbaptist.org/events/sunday-worship/20
 25-05-25
END:VEVENT
END:VCALENDAR
