BEGIN:VCALENDAR
VERSION:2.0
PRODID:icalendar-ruby
CALSCALE:GREGORIAN
METHOD:PUBLISH
BEGIN:VEVENT
DTSTAMP:20260423T035128Z
UID:5-403438@joinusatfaithbaptist.org
DTSTART:20250518T143000Z
DTEND:20250518T153000Z
CLASS:PUBLIC
CREATED:20260422T222146
DESCRIPTION:Sunday Worship
LAST-MODIFIED:20260422T222146
LOCATION:
SUMMARY:Sunday Worship
URL;VALUE=URI:https://www.joinusatfaithbaptist.org/events/sunday-worship/20
 25-05-18
END:VEVENT
END:VCALENDAR
