BEGIN:VCALENDAR
VERSION:2.0
PRODID:icalendar-ruby
CALSCALE:GREGORIAN
METHOD:PUBLISH
BEGIN:VEVENT
DTSTAMP:20260422T213128Z
UID:5-402912@joinusatfaithbaptist.org
DTSTART:20250420T143000Z
DTEND:20250420T153000Z
CLASS:PUBLIC
CREATED:20260422T163604
DESCRIPTION:Sunday Worship
LAST-MODIFIED:20260422T163604
LOCATION:
SUMMARY:Sunday Worship
URL;VALUE=URI:https://www.joinusatfaithbaptist.org/events/sunday-worship/20
 25-04-20
END:VEVENT
END:VCALENDAR
