BEGIN:VCALENDAR
VERSION:2.0
PRODID:icalendar-ruby
CALSCALE:GREGORIAN
METHOD:PUBLISH
BEGIN:VEVENT
DTSTAMP:20260422T173227Z
UID:5-402388@joinusatfaithbaptist.org
DTSTART:20250406T143000Z
DTEND:20250406T153000Z
CLASS:PUBLIC
CREATED:20260422T104543
DESCRIPTION:Sunday Worship
LAST-MODIFIED:20260422T104543
LOCATION:
SUMMARY:Sunday Worship
URL;VALUE=URI:https://www.joinusatfaithbaptist.org/events/sunday-worship/20
 25-04-06
END:VEVENT
END:VCALENDAR
