BEGIN:VCALENDAR
VERSION:2.0
PRODID:icalendar-ruby
CALSCALE:GREGORIAN
METHOD:PUBLISH
BEGIN:VEVENT
DTSTAMP:20260422T121912Z
UID:5-402124@joinusatfaithbaptist.org
DTSTART:20250316T143000Z
DTEND:20250316T153000Z
CLASS:PUBLIC
CREATED:20260422T075050
DESCRIPTION:Sunday Worship
LAST-MODIFIED:20260422T075050
LOCATION:
SUMMARY:Sunday Worship
URL;VALUE=URI:https://www.joinusatfaithbaptist.org/events/sunday-worship/20
 25-03-16
END:VEVENT
END:VCALENDAR
