BEGIN:VCALENDAR
VERSION:2.0
PRODID:icalendar-ruby
CALSCALE:GREGORIAN
METHOD:PUBLISH
BEGIN:VEVENT
DTSTAMP:20260422T090331Z
UID:5-401861@joinusatfaithbaptist.org
DTSTART:20250302T153000Z
DTEND:20250302T163000Z
CLASS:PUBLIC
CREATED:20260421T204713
DESCRIPTION:Sunday Worship
LAST-MODIFIED:20260421T204713
LOCATION:
SUMMARY:Sunday Worship
URL;VALUE=URI:https://www.joinusatfaithbaptist.org/events/sunday-worship/20
 25-03-02
END:VEVENT
END:VCALENDAR
