BEGIN:VCALENDAR
VERSION:2.0
PRODID:icalendar-ruby
CALSCALE:GREGORIAN
METHOD:PUBLISH
BEGIN:VEVENT
DTSTAMP:20260422T030302Z
UID:5-401857@joinusatfaithbaptist.org
DTSTART:20250202T153000Z
DTEND:20250202T163000Z
CLASS:PUBLIC
CREATED:20260421T204713
DESCRIPTION:Sunday Worship
LAST-MODIFIED:20260421T204713
LOCATION:
SUMMARY:Sunday Worship
URL;VALUE=URI:https://www.joinusatfaithbaptist.org/events/sunday-worship/20
 25-02-02
END:VEVENT
END:VCALENDAR
