BEGIN:VCALENDAR
VERSION:2.0
PRODID:icalendar-ruby
CALSCALE:GREGORIAN
METHOD:PUBLISH
BEGIN:VEVENT
DTSTAMP:20260422T013405Z
UID:5-401856@joinusatfaithbaptist.org
DTSTART:20250126T153000Z
DTEND:20250126T163000Z
CLASS:PUBLIC
CREATED:20260421T204713
DESCRIPTION:Sunday Worship
LAST-MODIFIED:20260421T204713
LOCATION:
SUMMARY:Sunday Worship
URL;VALUE=URI:https://www.joinusatfaithbaptist.org/events/sunday-worship/20
 25-01-26
END:VEVENT
END:VCALENDAR
