BEGIN:VCALENDAR
VERSION:2.0
PRODID:icalendar-ruby
CALSCALE:GREGORIAN
METHOD:PUBLISH
BEGIN:VEVENT
DTSTAMP:20260421T235605Z
UID:5-401594@joinusatfaithbaptist.org
DTSTART:20250119T153000Z
DTEND:20250119T163000Z
CLASS:PUBLIC
CREATED:20260421T180837
DESCRIPTION:Sunday Worship
LAST-MODIFIED:20260421T180837
LOCATION:
SUMMARY:Sunday Worship
URL;VALUE=URI:https://www.joinusatfaithbaptist.org/events/sunday-worship/20
 25-01-19
END:VEVENT
END:VCALENDAR
