BEGIN:VCALENDAR
VERSION:2.0
PRODID:icalendar-ruby
CALSCALE:GREGORIAN
METHOD:PUBLISH
BEGIN:VEVENT
DTSTAMP:20260421T201954Z
UID:5-401331@joinusatfaithbaptist.org
DTSTART:20250105T153000Z
DTEND:20250105T163000Z
CLASS:PUBLIC
CREATED:20260421T153059
DESCRIPTION:Sunday Worship
LAST-MODIFIED:20260421T153059
LOCATION:
SUMMARY:Sunday Worship
URL;VALUE=URI:https://www.joinusatfaithbaptist.org/events/sunday-worship/20
 25-01-05
END:VEVENT
END:VCALENDAR
