BEGIN:VCALENDAR
VERSION:2.0
PRODID:icalendar-ruby
CALSCALE:GREGORIAN
METHOD:PUBLISH
BEGIN:VEVENT
DTSTAMP:20260421T153227Z
UID:5-400806@joinusatfaithbaptist.org
DTSTART:20241215T153000Z
DTEND:20241215T163000Z
CLASS:PUBLIC
CREATED:20260421T101504
DESCRIPTION:Sunday Worship
LAST-MODIFIED:20260421T101504
LOCATION:
SUMMARY:Sunday Worship
URL;VALUE=URI:https://www.joinusatfaithbaptist.org/events/sunday-worship/20
 24-12-15
END:VEVENT
END:VCALENDAR
