BEGIN:VCALENDAR
VERSION:2.0
PRODID:icalendar-ruby
CALSCALE:GREGORIAN
METHOD:PUBLISH
BEGIN:VEVENT
DTSTAMP:20260421T122531Z
UID:5-400543@joinusatfaithbaptist.org
DTSTART:20241201T153000Z
DTEND:20241201T163000Z
CLASS:PUBLIC
CREATED:20260421T073926
DESCRIPTION:Sunday Worship
LAST-MODIFIED:20260421T073926
LOCATION:
SUMMARY:Sunday Worship
URL;VALUE=URI:https://www.joinusatfaithbaptist.org/events/sunday-worship/20
 24-12-01
END:VEVENT
END:VCALENDAR
