BEGIN:VCALENDAR
VERSION:2.0
PRODID:icalendar-ruby
CALSCALE:GREGORIAN
METHOD:PUBLISH
BEGIN:VEVENT
DTSTAMP:20260421T080856Z
UID:5-400279@joinusatfaithbaptist.org
DTSTART:20241110T153000Z
DTEND:20241110T163000Z
CLASS:PUBLIC
CREATED:20260420T203300
DESCRIPTION:Sunday Worship
LAST-MODIFIED:20260420T203300
LOCATION:
SUMMARY:Sunday Worship
URL;VALUE=URI:https://www.joinusatfaithbaptist.org/events/sunday-worship/20
 24-11-10
END:VEVENT
END:VCALENDAR
